BEGIN:VCALENDAR
VERSION:2.0
PRODID:-//Emerald Coast Parrot Head Club - ECPv6.15.20//NONSGML v1.0//EN
CALSCALE:GREGORIAN
METHOD:PUBLISH
X-ORIGINAL-URL:https://ecparrotheads.org
X-WR-CALDESC:Events for Emerald Coast Parrot Head Club
REFRESH-INTERVAL;VALUE=DURATION:PT1H
X-Robots-Tag:noindex
X-PUBLISHED-TTL:PT1H
BEGIN:VTIMEZONE
TZID:America/Chicago
BEGIN:DAYLIGHT
TZOFFSETFROM:-0600
TZOFFSETTO:-0500
TZNAME:CDT
DTSTART:20250309T080000
END:DAYLIGHT
BEGIN:STANDARD
TZOFFSETFROM:-0500
TZOFFSETTO:-0600
TZNAME:CST
DTSTART:20251102T070000
END:STANDARD
BEGIN:DAYLIGHT
TZOFFSETFROM:-0600
TZOFFSETTO:-0500
TZNAME:CDT
DTSTART:20260308T080000
END:DAYLIGHT
BEGIN:STANDARD
TZOFFSETFROM:-0500
TZOFFSETTO:-0600
TZNAME:CST
DTSTART:20261101T070000
END:STANDARD
BEGIN:DAYLIGHT
TZOFFSETFROM:-0600
TZOFFSETTO:-0500
TZNAME:CDT
DTSTART:20270314T080000
END:DAYLIGHT
BEGIN:STANDARD
TZOFFSETFROM:-0500
TZOFFSETTO:-0600
TZNAME:CST
DTSTART:20271107T070000
END:STANDARD
END:VTIMEZONE
BEGIN:VEVENT
DTSTART;TZID=America/Chicago:20260424T173000
DTEND;TZID=America/Chicago:20260424T203000
DTSTAMP:20260423T050358
CREATED:20260109T190306Z
LAST-MODIFIED:20260422T154637Z
UID:55860-1777051800-1777062600@ecparrotheads.org
SUMMARY:Phlocking at Cajun Corner with Rob Romans
DESCRIPTION:We’ll be outside on the back patio. \nMardi Gras Returns theme.
URL:https://ecparrotheads.org/event/phlocking-9/
LOCATION:Cajun Corner\, 306 Bald Eagle Dr\, Santa Rosa Beach\, FL\, 32459
END:VEVENT
BEGIN:VEVENT
DTSTART;TZID=America/Chicago:20260507T180000
DTEND;TZID=America/Chicago:20260507T210000
DTSTAMP:20260423T050358
CREATED:20260422T164548Z
LAST-MODIFIED:20260422T164548Z
UID:55925-1778176800-1778187600@ecparrotheads.org
SUMMARY:Meeting at Tripp Tide Beach Bar with Jeff and the Camaros
DESCRIPTION:Tripp Tide Beach Bar is in the back of The Island Resort on Okaloosa Island\, \nThis is a FREE event
URL:https://ecparrotheads.org/event/meeting-at-tripp-tide-beach-bar-with-jeff-and-the-camaros/
END:VEVENT
BEGIN:VEVENT
DTSTART;TZID=America/Chicago:20260507T180000
DTEND;TZID=America/Chicago:20260509T194500
DTSTAMP:20260423T050358
CREATED:20251210T164318Z
LAST-MODIFIED:20260422T155534Z
UID:55827-1778176800-1778355900@ecparrotheads.org
SUMMARY:Escape to the Island 2026 Trop Rock Music Festival
DESCRIPTION:All details are at:  https://ecparrotheads.org/escape-to-the-island/ \nThur: Beachside-Tripp Tide Beach Bar at The Island Resort-1500 Miracle Strip Pkwy SE\, Fort Walton Beach\, FL \nFri:    Poolside-The Island Resort-1500 Miracle Strip Pkwy SE\, Fort Walton Beach\, FL \nSat:   Bayside-The Elks Lodge 1795-1335 Miracle Strip Pkwy\, Fort Walton Beach\, FL \nFeel free to bring bag chairs at all venues.  No outside beverages.  Cash is king on Sat/Sun. \nFacebook Event – Escape to the Island; \nTickets: https://www.eventbrite.com/e/escape-to-the-island-2026-tickets-1665957607049?aff=oddtdtcreator
URL:https://ecparrotheads.org/event/escape-to-the-island-2026-trop-rock-music-festival/
END:VEVENT
BEGIN:VEVENT
DTSTART;TZID=America/Chicago:20260518T170000
DTEND;TZID=America/Chicago:20260518T170000
DTSTAMP:20260423T050358
CREATED:20260109T183635Z
LAST-MODIFIED:20260422T155816Z
UID:55847-1779123600-1779123600@ecparrotheads.org
SUMMARY:Billy Bowlegs Parade
DESCRIPTION:Meet at Repeat Street FWB at 5:00\, \nParade starts at 7:00pm\, \nPirate / Parrothead theme\, \nBYO Beads to throw
URL:https://ecparrotheads.org/event/billy-bowlegs-parade-2/
END:VEVENT
BEGIN:VEVENT
DTSTART;TZID=America/Chicago:20260529T173000
DTEND;TZID=America/Chicago:20260529T203000
DTSTAMP:20260423T050358
CREATED:20260109T184007Z
LAST-MODIFIED:20260422T155901Z
UID:55848-1780075800-1780086600@ecparrotheads.org
SUMMARY:Phlocking at Props Brewery Hammock Bay Freeport with Flash Flood
DESCRIPTION:NEW DATE
URL:https://ecparrotheads.org/event/phlocking-3/
END:VEVENT
BEGIN:VEVENT
DTSTART;TZID=America/Chicago:20260611T180000
DTEND;TZID=America/Chicago:20260611T180000
DTSTAMP:20260423T050358
CREATED:20250403T192042Z
LAST-MODIFIED:20260422T160508Z
UID:55703-1781200800-1781200800@ecparrotheads.org
SUMMARY:A1A: Jimmy Buffett Tribute Show at Mattie Kelly in Destin
DESCRIPTION:Arrive 6:00-6:15pm left/east side of the stage towards the front; Concert starts at 7:00pm; \nOutside food/adult beverages permitted – food trucks will be on site; \nBring a low-back chair or blanket; \nParrothead theme; \nParking available at:  Mattie Kelly lawn\, Destin High School\, Aquatic Center;\nFor more details and tickets see:  https://mkaf.org/concerts-in-the-village/
URL:https://ecparrotheads.org/event/a1a-jimmy-buffett-tribute-show-at-mattie-kelly-in-destin/
LOCATION:Mattie Kelly Arts Foundation\, 4323 Commons Dr W\, Destin\, FL\, 32541\, United States
END:VEVENT
BEGIN:VEVENT
DTSTART;TZID=America/Chicago:20260612T173000
DTEND;TZID=America/Chicago:20260612T203000
DTSTAMP:20260423T050358
CREATED:20260109T184105Z
LAST-MODIFIED:20260303T000540Z
UID:55849-1781285400-1781296200@ecparrotheads.org
SUMMARY:Meeting at Blue Tee - Bluewater Bay Clubhouse
DESCRIPTION:
URL:https://ecparrotheads.org/event/meeting/
END:VEVENT
BEGIN:VEVENT
DTSTART;TZID=America/Chicago:20260626T173000
DTEND;TZID=America/Chicago:20260626T203000
DTSTAMP:20260423T050358
CREATED:20260109T184311Z
LAST-MODIFIED:20260422T161506Z
UID:55850-1782495000-1782505800@ecparrotheads.org
SUMMARY:Phlocking
DESCRIPTION:4th of July theme
URL:https://ecparrotheads.org/event/phlocking-4/
END:VEVENT
BEGIN:VEVENT
DTSTART;VALUE=DATE:20260710
DTEND;VALUE=DATE:20260711
DTSTAMP:20260423T050358
CREATED:20260109T184352Z
LAST-MODIFIED:20260422T154920Z
UID:55851-1783641600-1783727999@ecparrotheads.org
SUMMARY:No Meeting - Holiday Break
DESCRIPTION:
URL:https://ecparrotheads.org/event/meeting-2/
END:VEVENT
BEGIN:VEVENT
DTSTART;TZID=America/Chicago:20260724T173000
DTEND;TZID=America/Chicago:20260724T203000
DTSTAMP:20260423T050358
CREATED:20260109T184516Z
LAST-MODIFIED:20260109T184516Z
UID:55852-1784914200-1784925000@ecparrotheads.org
SUMMARY:Phlocking
DESCRIPTION:
URL:https://ecparrotheads.org/event/phlocking-5/
END:VEVENT
BEGIN:VEVENT
DTSTART;TZID=America/Chicago:20260808T090000
DTEND;TZID=America/Chicago:20260808T140000
DTSTAMP:20260423T050358
CREATED:20260422T161127Z
LAST-MODIFIED:20260422T161127Z
UID:55919-1786179600-1786197600@ecparrotheads.org
SUMMARY:Beach Clean Up
DESCRIPTION:BYO Food\, Drinks\, Chairs
URL:https://ecparrotheads.org/event/beach-clean-up/
END:VEVENT
BEGIN:VEVENT
DTSTART;TZID=America/Chicago:20260814T173000
DTEND;TZID=America/Chicago:20260814T203000
DTSTAMP:20260423T050358
CREATED:20260109T184613Z
LAST-MODIFIED:20260109T184613Z
UID:55853-1786728600-1786739400@ecparrotheads.org
SUMMARY:Meeting
DESCRIPTION:
URL:https://ecparrotheads.org/event/meeting-3/
END:VEVENT
BEGIN:VEVENT
DTSTART;TZID=America/Chicago:20260828T173000
DTEND;TZID=America/Chicago:20260828T203000
DTSTAMP:20260423T050358
CREATED:20260109T184650Z
LAST-MODIFIED:20260109T184650Z
UID:55854-1787938200-1787949000@ecparrotheads.org
SUMMARY:Phlocking
DESCRIPTION:
URL:https://ecparrotheads.org/event/phlocking-8/
END:VEVENT
BEGIN:VEVENT
DTSTART;TZID=America/Chicago:20260911T173000
DTEND;TZID=America/Chicago:20260911T203000
DTSTAMP:20260423T050358
CREATED:20260109T184928Z
LAST-MODIFIED:20260109T185038Z
UID:55855-1789147800-1789158600@ecparrotheads.org
SUMMARY:Meeting at Harry T's
DESCRIPTION:Football theme
URL:https://ecparrotheads.org/event/meeting-at-harry-ts-2/
LOCATION:Harry T’s\, 46 Harbor Blvd\, Destin\, FL\, 32541
END:VEVENT
BEGIN:VEVENT
DTSTART;TZID=America/Chicago:20260925T173000
DTEND;TZID=America/Chicago:20260925T203000
DTSTAMP:20260423T050358
CREATED:20260109T185129Z
LAST-MODIFIED:20260109T185219Z
UID:55856-1790357400-1790368200@ecparrotheads.org
SUMMARY:Phlocking with BT Turner
DESCRIPTION:
URL:https://ecparrotheads.org/event/phlocking-with-bt-turner/
END:VEVENT
BEGIN:VEVENT
DTSTART;TZID=America/Chicago:20260926T130000
DTEND;TZID=America/Chicago:20260926T130000
DTSTAMP:20260423T050358
CREATED:20260109T185558Z
LAST-MODIFIED:20260109T185558Z
UID:55857-1790427600-1790427600@ecparrotheads.org
SUMMARY:Son of a Sailor Fest in Mobile
DESCRIPTION:BYOB and chairs\, \nwww.sos-fest.com
URL:https://ecparrotheads.org/event/son-of-a-sailor-fest-in-mobile/
END:VEVENT
BEGIN:VEVENT
DTSTART;TZID=America/Chicago:20261009T173000
DTEND;TZID=America/Chicago:20261009T203000
DTSTAMP:20260423T050358
CREATED:20260109T185716Z
LAST-MODIFIED:20260408T040150Z
UID:55858-1791567000-1791577800@ecparrotheads.org
SUMMARY:Meeting at Harry T's with Jamah Terry
DESCRIPTION:Halloween theme
URL:https://ecparrotheads.org/event/meeting-4/
LOCATION:Harry T’s\, 46 Harbor Blvd\, Destin\, FL\, 32541
END:VEVENT
BEGIN:VEVENT
DTSTART;VALUE=DATE:20261021
DTEND;VALUE=DATE:20261026
DTSTAMP:20260423T050358
CREATED:20260109T185838Z
LAST-MODIFIED:20260109T185838Z
UID:55859-1792540800-1792972799@ecparrotheads.org
SUMMARY:MEETING OF THE MINDS
DESCRIPTION:www.motm.rocks
URL:https://ecparrotheads.org/event/meeting-of-the-minds/
LOCATION:The Hangout\, 101 E. Beach Boulevard\, Gulf Shores\, AL
END:VEVENT
BEGIN:VEVENT
DTSTART;TZID=America/Chicago:20261107T090000
DTEND;TZID=America/Chicago:20261107T090000
DTSTAMP:20260423T050358
CREATED:20260422T163934Z
LAST-MODIFIED:20260422T163934Z
UID:55924-1794042000-1794042000@ecparrotheads.org
SUMMARY:Walk to End Alzheimer's
DESCRIPTION:NEW LOCATION – Grand Boulevard in Sandestin\, \nWalk starts at 10:00am\, \nTeam: Emerald Coast Purple Parrots\, \nhttp://act.alz.org/goto/PurpleParrots \n 
URL:https://ecparrotheads.org/event/walk-to-end-alzheimers/
END:VEVENT
BEGIN:VEVENT
DTSTART;TZID=America/Chicago:20261113T173000
DTEND;TZID=America/Chicago:20261113T203000
DTSTAMP:20260423T050358
CREATED:20260109T190531Z
LAST-MODIFIED:20260408T040332Z
UID:55861-1794591000-1794601800@ecparrotheads.org
SUMMARY:Meeting at Harry T's with Shack N Up (Chuck & Cheri)
DESCRIPTION:Veteran’s Day theme
URL:https://ecparrotheads.org/event/meeting-5/
END:VEVENT
BEGIN:VEVENT
DTSTART;TZID=America/Chicago:20261211T173000
DTEND;TZID=America/Chicago:20261211T203000
DTSTAMP:20260423T050358
CREATED:20260109T190642Z
LAST-MODIFIED:20260328T031838Z
UID:55862-1797010200-1797021000@ecparrotheads.org
SUMMARY:Meeting at Harry T's with Flash Flood
DESCRIPTION:Christmas theme
URL:https://ecparrotheads.org/event/meeting-at-harry-ts-3/
END:VEVENT
BEGIN:VEVENT
DTSTART;TZID=America/Chicago:20261212T080000
DTEND;TZID=America/Chicago:20261212T080000
DTSTAMP:20260423T050358
CREATED:20250403T204937Z
LAST-MODIFIED:20260422T163357Z
UID:55718-1797062400-1797062400@ecparrotheads.org
SUMMARY:Destin Christmas Parade starts at 10:00am?
DESCRIPTION:Meet at Destin Elementary School at 8:00am?\, \nBring a toy for Destin children in need\, \nBYO beads to throw\, \nBring bottles for Hurricane Relief raffles\, \n? theme
URL:https://ecparrotheads.org/event/destin-christmas-parade-2/
LOCATION:Destin Elementary School\, 630 Kelly St\, Destin\, FL\, 32541
END:VEVENT
BEGIN:VEVENT
DTSTART;TZID=America/Chicago:20261230T173000
DTEND;TZID=America/Chicago:20261230T210000
DTSTAMP:20260423T050358
CREATED:20260109T191056Z
LAST-MODIFIED:20260109T191056Z
UID:55864-1798651800-1798664400@ecparrotheads.org
SUMMARY:New Year's Eve Eve with Aftermath 5
DESCRIPTION:
URL:https://ecparrotheads.org/event/new-years-eve-eve-with-aftermath-5-2/
END:VEVENT
END:VCALENDAR